BEGIN:VCALENDAR
VERSION:2.0
PRODID:-//Willows Elementary - ECPv6.2.8.1//NONSGML v1.0//EN
CALSCALE:GREGORIAN
METHOD:PUBLISH
X-ORIGINAL-URL:https://willows.sd61.bc.ca
X-WR-CALDESC:Events for Willows Elementary
REFRESH-INTERVAL;VALUE=DURATION:PT1H
X-Robots-Tag:noindex
X-PUBLISHED-TTL:PT1H
BEGIN:VTIMEZONE
TZID:America/Vancouver
BEGIN:DAYLIGHT
TZOFFSETFROM:-0800
TZOFFSETTO:-0700
TZNAME:PDT
DTSTART:20140309T100000
END:DAYLIGHT
BEGIN:STANDARD
TZOFFSETFROM:-0700
TZOFFSETTO:-0800
TZNAME:PST
DTSTART:20141102T090000
END:STANDARD
END:VTIMEZONE
BEGIN:VEVENT
DTSTART;TZID=America/Vancouver:20140121T183000
DTEND;TZID=America/Vancouver:20140121T203000
DTSTAMP:20260422T160742
CREATED:20131210T200955Z
LAST-MODIFIED:20131210T202259Z
UID:1366-1390329000-1390336200@willows.sd61.bc.ca
SUMMARY:"Welcome to School" meeting for new English Kindergarten
DESCRIPTION:S.J. Willis auditorium. Information meeting for English Kindergarten.
URL:https://willows.sd61.bc.ca/calendar-event/welcome-to-school-meeting-for-new-english-kindergarten/
END:VEVENT
END:VCALENDAR