BEGIN:VCALENDAR
VERSION:2.0
PRODID:-//Willows Elementary - ECPv6.2.8.1//NONSGML v1.0//EN
CALSCALE:GREGORIAN
METHOD:PUBLISH
X-ORIGINAL-URL:https://willows.sd61.bc.ca
X-WR-CALDESC:Events for Willows Elementary
REFRESH-INTERVAL;VALUE=DURATION:PT1H
X-Robots-Tag:noindex
X-PUBLISHED-TTL:PT1H
BEGIN:VTIMEZONE
TZID:America/Vancouver
BEGIN:DAYLIGHT
TZOFFSETFROM:-0800
TZOFFSETTO:-0700
TZNAME:PDT
DTSTART:20140309T100000
END:DAYLIGHT
BEGIN:STANDARD
TZOFFSETFROM:-0700
TZOFFSETTO:-0800
TZNAME:PST
DTSTART:20141102T090000
END:STANDARD
END:VTIMEZONE
BEGIN:VEVENT
DTSTART;TZID=America/Vancouver:20141119T150000
DTEND;TZID=America/Vancouver:20141119T160000
DTSTAMP:20260420T183312
CREATED:20141119T203338Z
LAST-MODIFIED:20141119T203338Z
UID:1623-1416409200-1416412800@willows.sd61.bc.ca
SUMMARY:Soccer Game after school today Team 1 vs Team 2
DESCRIPTION:
URL:https://willows.sd61.bc.ca/calendar-event/soccer-game-after-school-today-team-1-vs-team-2/
END:VEVENT
BEGIN:VEVENT
DTSTART;TZID=America/Vancouver:20141119T190000
DTEND;TZID=America/Vancouver:20141119T200000
DTSTAMP:20260420T183312
CREATED:20141119T175540Z
LAST-MODIFIED:20141119T184204Z
UID:1583-1416423600-1416427200@willows.sd61.bc.ca
SUMMARY:PAC Meeting 7:00 Library
DESCRIPTION:
URL:https://willows.sd61.bc.ca/calendar-event/pac-meeting-700-library-3/
END:VEVENT
END:VCALENDAR