BEGIN:VCALENDAR
VERSION:2.0
PRODID:-//Willows Elementary - ECPv6.2.8.1//NONSGML v1.0//EN
CALSCALE:GREGORIAN
METHOD:PUBLISH
X-WR-CALNAME:Willows Elementary
X-ORIGINAL-URL:https://willows.sd61.bc.ca
X-WR-CALDESC:Events for Willows Elementary
REFRESH-INTERVAL;VALUE=DURATION:PT1H
X-Robots-Tag:noindex
X-PUBLISHED-TTL:PT1H
BEGIN:VTIMEZONE
TZID:America/Vancouver
BEGIN:DAYLIGHT
TZOFFSETFROM:-0800
TZOFFSETTO:-0700
TZNAME:PDT
DTSTART:20140309T100000
END:DAYLIGHT
BEGIN:STANDARD
TZOFFSETFROM:-0700
TZOFFSETTO:-0800
TZNAME:PST
DTSTART:20141102T090000
END:STANDARD
END:VTIMEZONE
BEGIN:VEVENT
DTSTART;TZID=America/Vancouver:20141127T080000
DTEND;TZID=America/Vancouver:20141127T170000
DTSTAMP:20260420T225832
CREATED:20141121T222335Z
LAST-MODIFIED:20141121T222335Z
UID:1645-1417075200-1417107600@willows.sd61.bc.ca
SUMMARY:Holly Tree Book Fair  8:30 - 8:45 & 3:00 - 3:30
DESCRIPTION:
URL:https://willows.sd61.bc.ca/calendar-event/holly-tree-book-fair-830-845-300-330/
END:VEVENT
BEGIN:VEVENT
DTSTART;TZID=America/Vancouver:20141127T084000
DTEND;TZID=America/Vancouver:20141127T145000
DTSTAMP:20260420T225832
CREATED:20141119T180613Z
LAST-MODIFIED:20141119T183952Z
UID:1602-1417077600-1417099800@willows.sd61.bc.ca
SUMMARY:Willows Wear deadline
DESCRIPTION:
URL:https://willows.sd61.bc.ca/calendar-event/willows-wear-deadline/
END:VEVENT
BEGIN:VEVENT
DTSTART;TZID=America/Vancouver:20141128T083000
DTEND;TZID=America/Vancouver:20141128T084500
DTSTAMP:20260420T225832
CREATED:20141121T222523Z
LAST-MODIFIED:20141121T222523Z
UID:1646-1417163400-1417164300@willows.sd61.bc.ca
SUMMARY:Holly Tree Book Fair  8:30-8:45am & 6:00-8:00pm (During Holly Tree Festival)
DESCRIPTION:
URL:https://willows.sd61.bc.ca/calendar-event/holly-tree-book-fair-830-845am-600-800pm-during-holly-tree-festival/
END:VEVENT
END:VCALENDAR