BEGIN:VCALENDAR
VERSION:2.0
PRODID:-//Willows Elementary - ECPv6.2.8.1//NONSGML v1.0//EN
CALSCALE:GREGORIAN
METHOD:PUBLISH
X-ORIGINAL-URL:https://willows.sd61.bc.ca
X-WR-CALDESC:Events for Willows Elementary
REFRESH-INTERVAL;VALUE=DURATION:PT1H
X-Robots-Tag:noindex
X-PUBLISHED-TTL:PT1H
BEGIN:VTIMEZONE
TZID:America/Vancouver
BEGIN:DAYLIGHT
TZOFFSETFROM:-0800
TZOFFSETTO:-0700
TZNAME:PDT
DTSTART:20140309T100000
END:DAYLIGHT
BEGIN:STANDARD
TZOFFSETFROM:-0700
TZOFFSETTO:-0800
TZNAME:PST
DTSTART:20141102T090000
END:STANDARD
END:VTIMEZONE
BEGIN:VEVENT
DTSTART;TZID=America/Vancouver:20141209T080000
DTEND;TZID=America/Vancouver:20141209T170000
DTSTAMP:20260420T170244
CREATED:20141119T175935Z
LAST-MODIFIED:20141119T175935Z
UID:1591-1418112000-1418144400@willows.sd61.bc.ca
SUMMARY:Gr. 5 Choir performance
DESCRIPTION:
URL:https://willows.sd61.bc.ca/calendar-event/gr-5-choir-performance/
END:VEVENT
BEGIN:VEVENT
DTSTART;TZID=America/Vancouver:20141209T154500
DTEND;TZID=America/Vancouver:20141209T170000
DTSTAMP:20260420T170244
CREATED:20141119T175912Z
LAST-MODIFIED:20141119T183320Z
UID:1590-1418139900-1418144400@willows.sd61.bc.ca
SUMMARY:Swim Club 3:45 OB Rec
DESCRIPTION:
URL:https://willows.sd61.bc.ca/calendar-event/swim-club-345-ob-rec-2/
END:VEVENT
END:VCALENDAR