BEGIN:VCALENDAR
VERSION:2.0
PRODID:-//Willows Elementary - ECPv6.2.8.1//NONSGML v1.0//EN
CALSCALE:GREGORIAN
METHOD:PUBLISH
X-ORIGINAL-URL:https://willows.sd61.bc.ca
X-WR-CALDESC:Events for Willows Elementary
REFRESH-INTERVAL;VALUE=DURATION:PT1H
X-Robots-Tag:noindex
X-PUBLISHED-TTL:PT1H
BEGIN:VTIMEZONE
TZID:America/Vancouver
BEGIN:DAYLIGHT
TZOFFSETFROM:-0800
TZOFFSETTO:-0700
TZNAME:PDT
DTSTART:20150308T100000
END:DAYLIGHT
BEGIN:STANDARD
TZOFFSETFROM:-0700
TZOFFSETTO:-0800
TZNAME:PST
DTSTART:20151101T090000
END:STANDARD
END:VTIMEZONE
BEGIN:VEVENT
DTSTART;TZID=America/Vancouver:20150202T080000
DTEND;TZID=America/Vancouver:20150204T170000
DTSTAMP:20260421T064814
CREATED:20141119T222515Z
LAST-MODIFIED:20141119T222515Z
UID:1631-1422864000-1423069200@willows.sd61.bc.ca
SUMMARY:Kindergarten  - Hearing & Vision Testing
DESCRIPTION:
URL:https://willows.sd61.bc.ca/calendar-event/kindergarten-hearing-vision-testing/
END:VEVENT
BEGIN:VEVENT
DTSTART;TZID=America/Vancouver:20150202T110000
DTEND;TZID=America/Vancouver:20150202T130000
DTSTAMP:20260421T064814
CREATED:20141121T185719Z
LAST-MODIFIED:20141121T185719Z
UID:1639-1422874800-1422882000@willows.sd61.bc.ca
SUMMARY:Assemblies 11:00 & 1:00
DESCRIPTION:
URL:https://willows.sd61.bc.ca/calendar-event/assemblies-1100-100/
END:VEVENT
END:VCALENDAR