BEGIN:VCALENDAR
VERSION:2.0
PRODID:-//Willows Elementary - ECPv6.2.8.1//NONSGML v1.0//EN
CALSCALE:GREGORIAN
METHOD:PUBLISH
X-WR-CALNAME:Willows Elementary
X-ORIGINAL-URL:https://willows.sd61.bc.ca
X-WR-CALDESC:Events for Willows Elementary
REFRESH-INTERVAL;VALUE=DURATION:PT1H
X-Robots-Tag:noindex
X-PUBLISHED-TTL:PT1H
BEGIN:VTIMEZONE
TZID:America/Vancouver
BEGIN:DAYLIGHT
TZOFFSETFROM:-0800
TZOFFSETTO:-0700
TZNAME:PDT
DTSTART:20150308T100000
END:DAYLIGHT
BEGIN:STANDARD
TZOFFSETFROM:-0700
TZOFFSETTO:-0800
TZNAME:PST
DTSTART:20151101T090000
END:STANDARD
END:VTIMEZONE
BEGIN:VEVENT
DTSTART;TZID=America/Vancouver:20150619T115000
DTEND;TZID=America/Vancouver:20150619T125000
DTSTAMP:20260420T130002
CREATED:20141119T190517Z
LAST-MODIFIED:20141119T190517Z
UID:1610-1434714600-1434718200@willows.sd61.bc.ca
SUMMARY:Pizza/Sushi Day
DESCRIPTION:
URL:https://willows.sd61.bc.ca/calendar-event/pizzasushi-day-19/
END:VEVENT
BEGIN:VEVENT
DTSTART;TZID=America/Vancouver:20150619T123000
DTEND;TZID=America/Vancouver:20150619T145000
DTSTAMP:20260420T130002
CREATED:20150512T151518Z
LAST-MODIFIED:20150512T151518Z
UID:1775-1434717000-1434725400@willows.sd61.bc.ca
SUMMARY:Grade 5 Talent Show
DESCRIPTION:
URL:https://willows.sd61.bc.ca/calendar-event/grade-5-talent-show/
END:VEVENT
END:VCALENDAR