BEGIN:VCALENDAR
VERSION:2.0
PRODID:-//Willows Elementary - ECPv6.2.8.1//NONSGML v1.0//EN
CALSCALE:GREGORIAN
METHOD:PUBLISH
X-WR-CALNAME:Willows Elementary
X-ORIGINAL-URL:https://willows.sd61.bc.ca
X-WR-CALDESC:Events for Willows Elementary
REFRESH-INTERVAL;VALUE=DURATION:PT1H
X-Robots-Tag:noindex
X-PUBLISHED-TTL:PT1H
BEGIN:VTIMEZONE
TZID:America/Vancouver
BEGIN:DAYLIGHT
TZOFFSETFROM:-0800
TZOFFSETTO:-0700
TZNAME:PDT
DTSTART:20150308T100000
END:DAYLIGHT
BEGIN:STANDARD
TZOFFSETFROM:-0700
TZOFFSETTO:-0800
TZNAME:PST
DTSTART:20151101T090000
END:STANDARD
END:VTIMEZONE
BEGIN:VEVENT
DTSTART;TZID=America/Vancouver:20151014T190000
DTEND;TZID=America/Vancouver:20151014T203000
DTSTAMP:20260419T203249
CREATED:20150917T233511Z
LAST-MODIFIED:20150917T233511Z
UID:1819-1444849200-1444854600@willows.sd61.bc.ca
SUMMARY:PAC meeting in library @ 7:00
DESCRIPTION:
URL:https://willows.sd61.bc.ca/calendar-event/pac-meeting-in-library-700/
END:VEVENT
BEGIN:VEVENT
DTSTART;VALUE=DATE:20151015
DTEND;VALUE=DATE:20151016
DTSTAMP:20260419T203249
CREATED:20150917T233550Z
LAST-MODIFIED:20150917T233550Z
UID:1820-1444867200-1444953599@willows.sd61.bc.ca
SUMMARY:BC Shake Up - Earthquake drill
DESCRIPTION:
URL:https://willows.sd61.bc.ca/calendar-event/bc-shake-up-earthquake-drill/
END:VEVENT
END:VCALENDAR