BEGIN:VCALENDAR
VERSION:2.0
PRODID:-//Willows Elementary - ECPv6.2.8.1//NONSGML v1.0//EN
CALSCALE:GREGORIAN
METHOD:PUBLISH
X-WR-CALNAME:Willows Elementary
X-ORIGINAL-URL:https://willows.sd61.bc.ca
X-WR-CALDESC:Events for Willows Elementary
REFRESH-INTERVAL;VALUE=DURATION:PT1H
X-Robots-Tag:noindex
X-PUBLISHED-TTL:PT1H
BEGIN:VTIMEZONE
TZID:America/Vancouver
BEGIN:DAYLIGHT
TZOFFSETFROM:-0800
TZOFFSETTO:-0700
TZNAME:PDT
DTSTART:20150308T100000
END:DAYLIGHT
BEGIN:STANDARD
TZOFFSETFROM:-0700
TZOFFSETTO:-0800
TZNAME:PST
DTSTART:20151101T090000
END:STANDARD
END:VTIMEZONE
BEGIN:VEVENT
DTSTART;TZID=America/Vancouver:20151029T080000
DTEND;TZID=America/Vancouver:20151029T130000
DTSTAMP:20260419T203251
CREATED:20150925T173425Z
LAST-MODIFIED:20150925T173425Z
UID:1866-1446105600-1446123600@willows.sd61.bc.ca
SUMMARY:Photo retake day
DESCRIPTION:
URL:https://willows.sd61.bc.ca/calendar-event/photo-retake-day/
END:VEVENT
BEGIN:VEVENT
DTSTART;VALUE=DATE:20151030
DTEND;VALUE=DATE:20151031
DTSTAMP:20260419T203251
CREATED:20150917T233715Z
LAST-MODIFIED:20150917T233715Z
UID:1823-1446163200-1446249599@willows.sd61.bc.ca
SUMMARY:Orange and Black Day
DESCRIPTION:
URL:https://willows.sd61.bc.ca/calendar-event/orange-and-black-day/
END:VEVENT
BEGIN:VEVENT
DTSTART;VALUE=DATE:20151030
DTEND;VALUE=DATE:20151031
DTSTAMP:20260419T203251
CREATED:20151006T221056Z
LAST-MODIFIED:20151006T221056Z
UID:1898-1446163200-1446249599@willows.sd61.bc.ca
SUMMARY:Pizza/Sushi day
DESCRIPTION:
URL:https://willows.sd61.bc.ca/calendar-event/pizzasushi-day-5/
END:VEVENT
END:VCALENDAR