BEGIN:VCALENDAR
VERSION:2.0
PRODID:-//Willows Elementary - ECPv6.2.8.1//NONSGML v1.0//EN
CALSCALE:GREGORIAN
METHOD:PUBLISH
X-ORIGINAL-URL:https://willows.sd61.bc.ca
X-WR-CALDESC:Events for Willows Elementary
REFRESH-INTERVAL;VALUE=DURATION:PT1H
X-Robots-Tag:noindex
X-PUBLISHED-TTL:PT1H
BEGIN:VTIMEZONE
TZID:America/Vancouver
BEGIN:DAYLIGHT
TZOFFSETFROM:-0800
TZOFFSETTO:-0700
TZNAME:PDT
DTSTART:20190310T100000
END:DAYLIGHT
BEGIN:STANDARD
TZOFFSETFROM:-0700
TZOFFSETTO:-0800
TZNAME:PST
DTSTART:20191103T090000
END:STANDARD
END:VTIMEZONE
BEGIN:VEVENT
DTSTART;VALUE=DATE:20191015
DTEND;VALUE=DATE:20191016
DTSTAMP:20260425T143913
CREATED:20190830T151759Z
LAST-MODIFIED:20190830T151759Z
UID:3870-1571097600-1571183999@willows.sd61.bc.ca
SUMMARY:Parent Teacher Conferences
DESCRIPTION:
URL:https://willows.sd61.bc.ca/calendar-event/parent-teacher-conferences/
END:VEVENT
BEGIN:VEVENT
DTSTART;VALUE=DATE:20191016
DTEND;VALUE=DATE:20191017
DTSTAMP:20260425T143913
CREATED:20190830T151856Z
LAST-MODIFIED:20190830T151856Z
UID:3872-1571184000-1571270399@willows.sd61.bc.ca
SUMMARY:Parent Teacher Conferences
DESCRIPTION:
URL:https://willows.sd61.bc.ca/calendar-event/parent-teacher-conferences-2/
END:VEVENT
BEGIN:VEVENT
DTSTART;VALUE=DATE:20191016
DTEND;VALUE=DATE:20191017
DTSTAMP:20260425T143913
CREATED:20190830T152004Z
LAST-MODIFIED:20190830T152427Z
UID:3874-1571184000-1571270399@willows.sd61.bc.ca
SUMMARY:PAC Meeting 7 pm
DESCRIPTION:
URL:https://willows.sd61.bc.ca/calendar-event/pac-meeting-7-pm/
END:VEVENT
END:VCALENDAR