BEGIN:VCALENDAR
VERSION:2.0
PRODID:-//Willows Elementary - ECPv6.2.8.1//NONSGML v1.0//EN
CALSCALE:GREGORIAN
METHOD:PUBLISH
X-ORIGINAL-URL:https://willows.sd61.bc.ca
X-WR-CALDESC:Events for Willows Elementary
REFRESH-INTERVAL;VALUE=DURATION:PT1H
X-Robots-Tag:noindex
X-PUBLISHED-TTL:PT1H
BEGIN:VTIMEZONE
TZID:America/Vancouver
BEGIN:DAYLIGHT
TZOFFSETFROM:-0800
TZOFFSETTO:-0700
TZNAME:PDT
DTSTART:20150308T100000
END:DAYLIGHT
BEGIN:STANDARD
TZOFFSETFROM:-0700
TZOFFSETTO:-0800
TZNAME:PST
DTSTART:20151101T090000
END:STANDARD
END:VTIMEZONE
BEGIN:VEVENT
DTSTART;TZID=America/Vancouver:20150427T130000
DTEND;TZID=America/Vancouver:20150427T134500
DTSTAMP:20260420T004709
CREATED:20150422T202130Z
LAST-MODIFIED:20150422T205515Z
UID:1736-1430139600-1430142300@willows.sd61.bc.ca
SUMMARY:Afternoon Musical @ 1:00 in gym Orange/Chatham
DESCRIPTION:
URL:https://willows.sd61.bc.ca/calendar-event/afternoon-musical-100-in-gym/
END:VEVENT
BEGIN:VEVENT
DTSTART;TZID=America/Vancouver:20150428T130000
DTEND;TZID=America/Vancouver:20150428T134500
DTSTAMP:20260420T004709
CREATED:20150422T205409Z
LAST-MODIFIED:20150422T205538Z
UID:1737-1430226000-1430228700@willows.sd61.bc.ca
SUMMARY:Afternoon Musical in gym @1:00 Green/Discovery
DESCRIPTION:
URL:https://willows.sd61.bc.ca/calendar-event/afternoon-musical-in-gym-100/
END:VEVENT
BEGIN:VEVENT
DTSTART;TZID=America/Vancouver:20150429T181500
DTEND;TZID=America/Vancouver:20150429T190000
DTSTAMP:20260420T004709
CREATED:20150417T145625Z
LAST-MODIFIED:20150417T145625Z
UID:1724-1430331300-1430334000@willows.sd61.bc.ca
SUMMARY:Orange Cast & Chatham Perform 6:15 pm
DESCRIPTION:
URL:https://willows.sd61.bc.ca/calendar-event/orange-cast-chatham-perform-615-pm/
END:VEVENT
BEGIN:VEVENT
DTSTART;TZID=America/Vancouver:20150429T193000
DTEND;TZID=America/Vancouver:20150429T201500
DTSTAMP:20260420T004709
CREATED:20150417T150006Z
LAST-MODIFIED:20150417T150006Z
UID:1726-1430335800-1430338500@willows.sd61.bc.ca
SUMMARY:Orange Cast & Discovery perform 7:30 pm
DESCRIPTION:
URL:https://willows.sd61.bc.ca/calendar-event/orange-cast-discovery-perform-730-pm-2/
END:VEVENT
BEGIN:VEVENT
DTSTART;TZID=America/Vancouver:20150430T153000
DTEND;TZID=America/Vancouver:20150430T160000
DTSTAMP:20260420T004709
CREATED:20150422T205619Z
LAST-MODIFIED:20150422T205619Z
UID:1738-1430407800-1430409600@willows.sd61.bc.ca
SUMMARY:Newsletter home
DESCRIPTION:
URL:https://willows.sd61.bc.ca/calendar-event/newsletter-home/
END:VEVENT
BEGIN:VEVENT
DTSTART;TZID=America/Vancouver:20150430T181500
DTEND;TZID=America/Vancouver:20150430T191500
DTSTAMP:20260420T004709
CREATED:20150417T150058Z
LAST-MODIFIED:20150417T150058Z
UID:1727-1430417700-1430421300@willows.sd61.bc.ca
SUMMARY:Green Cast & Discovery perform 6:15 pm
DESCRIPTION:
URL:https://willows.sd61.bc.ca/calendar-event/green-cast-discovery-perform-615-pm/
END:VEVENT
BEGIN:VEVENT
DTSTART;TZID=America/Vancouver:20150430T193000
DTEND;TZID=America/Vancouver:20150430T203000
DTSTAMP:20260420T004709
CREATED:20150417T150507Z
LAST-MODIFIED:20150417T150507Z
UID:1728-1430422200-1430425800@willows.sd61.bc.ca
SUMMARY:Green Cast & Chatham perform 7:30 pm
DESCRIPTION:
URL:https://willows.sd61.bc.ca/calendar-event/green-cast-chatham-perform-730-pm/
END:VEVENT
BEGIN:VEVENT
DTSTART;TZID=America/Vancouver:20150508T090000
DTEND;TZID=America/Vancouver:20150508T220000
DTSTAMP:20260420T004709
CREATED:20150417T151501Z
LAST-MODIFIED:20150417T151842Z
UID:1732-1431075600-1431122400@willows.sd61.bc.ca
SUMMARY:Kindergarten orientation French 9:00 am -gym
DESCRIPTION:
URL:https://willows.sd61.bc.ca/calendar-event/kindergarten-orientation-french-900-am-gym-2/
END:VEVENT
BEGIN:VEVENT
DTSTART;TZID=America/Vancouver:20150508T104500
DTEND;TZID=America/Vancouver:20150508T120000
DTSTAMP:20260420T004709
CREATED:20150417T151158Z
LAST-MODIFIED:20150417T151158Z
UID:1730-1431081900-1431086400@willows.sd61.bc.ca
SUMMARY:Kindergarten Orientation English 10:45 - gym
DESCRIPTION:
URL:https://willows.sd61.bc.ca/calendar-event/kindergarten-orientation-english-1045-gym/
END:VEVENT
BEGIN:VEVENT
DTSTART;TZID=America/Vancouver:20150511T083000
DTEND;TZID=America/Vancouver:20150515T145000
DTSTAMP:20260420T004709
CREATED:20150512T150933Z
LAST-MODIFIED:20150512T150933Z
UID:1769-1431333000-1431701400@willows.sd61.bc.ca
SUMMARY:Bike to School Week
DESCRIPTION:
URL:https://willows.sd61.bc.ca/calendar-event/bike-to-school-week/
END:VEVENT
BEGIN:VEVENT
DTSTART;TZID=America/Vancouver:20150514T090000
DTEND;TZID=America/Vancouver:20150514T145000
DTSTAMP:20260420T004709
CREATED:20150512T145450Z
LAST-MODIFIED:20150512T145531Z
UID:1766-1431594000-1431615000@willows.sd61.bc.ca
SUMMARY:Grade 5 Transition Day
DESCRIPTION:
URL:https://willows.sd61.bc.ca/calendar-event/track-practise-oak-bay-high/
END:VEVENT
BEGIN:VEVENT
DTSTART;TZID=America/Vancouver:20150514T150000
DTEND;TZID=America/Vancouver:20150514T161500
DTSTAMP:20260420T004709
CREATED:20150512T151025Z
LAST-MODIFIED:20150512T151025Z
UID:1770-1431615600-1431620100@willows.sd61.bc.ca
SUMMARY:Track Practise @ Oak Bay High
DESCRIPTION:
URL:https://willows.sd61.bc.ca/calendar-event/track-practise-oak-bay-high-2/
END:VEVENT
BEGIN:VEVENT
DTSTART;TZID=America/Vancouver:20150514T183000
DTEND;TZID=America/Vancouver:20150514T200000
DTSTAMP:20260420T004709
CREATED:20150512T145259Z
LAST-MODIFIED:20150512T145300Z
UID:1765-1431628200-1431633600@willows.sd61.bc.ca
SUMMARY:French Family Dance 6:30-8:00 p.m. in the gym
DESCRIPTION:
URL:https://willows.sd61.bc.ca/calendar-event/french-family-dance-630-800-p-m-in-the-gym/
END:VEVENT
BEGIN:VEVENT
DTSTART;TZID=America/Vancouver:20150515T120000
DTEND;TZID=America/Vancouver:20150515T140000
DTSTAMP:20260420T004709
CREATED:20150512T150817Z
LAST-MODIFIED:20150512T150817Z
UID:1768-1431691200-1431698400@willows.sd61.bc.ca
SUMMARY:Bike Roadeo for Gr. 4
DESCRIPTION:
URL:https://willows.sd61.bc.ca/calendar-event/bike-roadeo-for-gr-4/
END:VEVENT
BEGIN:VEVENT
DTSTART;TZID=America/Vancouver:20150515T153000
DTEND;TZID=America/Vancouver:20150515T160000
DTSTAMP:20260420T004709
CREATED:20150422T205923Z
LAST-MODIFIED:20150422T205923Z
UID:1739-1431703800-1431705600@willows.sd61.bc.ca
SUMMARY:Newsletter home
DESCRIPTION:
URL:https://willows.sd61.bc.ca/calendar-event/newsletter-home-2/
END:VEVENT
BEGIN:VEVENT
DTSTART;VALUE=DATE:20150518
DTEND;VALUE=DATE:20150519
DTSTAMP:20260420T004709
CREATED:20130908T195036Z
LAST-MODIFIED:20141119T185659Z
UID:1186-1431907200-1431993599@willows.sd61.bc.ca
SUMMARY:Victoria Day - No School
DESCRIPTION:
URL:https://willows.sd61.bc.ca/calendar-event/victoria-day-no-school/
END:VEVENT
BEGIN:VEVENT
DTSTART;TZID=America/Vancouver:20150519T080000
DTEND;TZID=America/Vancouver:20150519T170000
DTSTAMP:20260420T004709
CREATED:20141119T190728Z
LAST-MODIFIED:20141119T190728Z
UID:1614-1432022400-1432054800@willows.sd61.bc.ca
SUMMARY:Pro-D Day - No School
DESCRIPTION:
URL:https://willows.sd61.bc.ca/calendar-event/pro-d-day-no-school-10/
END:VEVENT
BEGIN:VEVENT
DTSTART;TZID=America/Vancouver:20150520T080000
DTEND;TZID=America/Vancouver:20150520T145000
DTSTAMP:20260420T004709
CREATED:20150512T151112Z
LAST-MODIFIED:20150512T151112Z
UID:1771-1432108800-1432133400@willows.sd61.bc.ca
SUMMARY:Visit from the Ditidaht students and staff
DESCRIPTION:
URL:https://willows.sd61.bc.ca/calendar-event/visit-from-the-ditidaht-students-and-staff/
END:VEVENT
BEGIN:VEVENT
DTSTART;TZID=America/Vancouver:20150522T083000
DTEND;TZID=America/Vancouver:20150522T145000
DTSTAMP:20260420T004709
CREATED:20150512T151156Z
LAST-MODIFIED:20150512T151156Z
UID:1772-1432283400-1432306200@willows.sd61.bc.ca
SUMMARY:Crazy Hair Day
DESCRIPTION:
URL:https://willows.sd61.bc.ca/calendar-event/crazy-hair-day/
END:VEVENT
BEGIN:VEVENT
DTSTART;TZID=America/Vancouver:20150522T115000
DTEND;TZID=America/Vancouver:20150522T125000
DTSTAMP:20260420T004709
CREATED:20141119T190446Z
LAST-MODIFIED:20141119T190446Z
UID:1609-1432295400-1432299000@willows.sd61.bc.ca
SUMMARY:Pizza/Sushi Day
DESCRIPTION:
URL:https://willows.sd61.bc.ca/calendar-event/pizzasushi-day-18/
END:VEVENT
BEGIN:VEVENT
DTSTART;TZID=America/Vancouver:20150527T180000
DTEND;TZID=America/Vancouver:20150527T200000
DTSTAMP:20260420T004709
CREATED:20150422T210059Z
LAST-MODIFIED:20150422T210059Z
UID:1741-1432749600-1432756800@willows.sd61.bc.ca
SUMMARY:Zone Track Meet Finals @ 6:00 pm
DESCRIPTION:
URL:https://willows.sd61.bc.ca/calendar-event/zone-track-meet-finals-600-pm/
END:VEVENT
BEGIN:VEVENT
DTSTART;TZID=America/Vancouver:20150528T090000
DTEND;TZID=America/Vancouver:20150528T144500
DTSTAMP:20260420T004709
CREATED:20150422T210015Z
LAST-MODIFIED:20150422T210015Z
UID:1740-1432803600-1432824300@willows.sd61.bc.ca
SUMMARY:Class photos
DESCRIPTION:
URL:https://willows.sd61.bc.ca/calendar-event/class-photos/
END:VEVENT
BEGIN:VEVENT
DTSTART;TZID=America/Vancouver:20150605T100000
DTEND;TZID=America/Vancouver:20150605T145000
DTSTAMP:20260420T004709
CREATED:20150512T151241Z
LAST-MODIFIED:20150512T151241Z
UID:1773-1433498400-1433515800@willows.sd61.bc.ca
SUMMARY:Victorian Tea
DESCRIPTION:
URL:https://willows.sd61.bc.ca/calendar-event/victorian-tea-2/
END:VEVENT
BEGIN:VEVENT
DTSTART;TZID=America/Vancouver:20150606T090000
DTEND;TZID=America/Vancouver:20150606T130000
DTSTAMP:20260420T004709
CREATED:20150512T151337Z
LAST-MODIFIED:20150512T151337Z
UID:1774-1433581200-1433595600@willows.sd61.bc.ca
SUMMARY:Tea Party Parade
DESCRIPTION:
URL:https://willows.sd61.bc.ca/calendar-event/tea-party-parade/
END:VEVENT
BEGIN:VEVENT
DTSTART;TZID=America/Vancouver:20150619T115000
DTEND;TZID=America/Vancouver:20150619T125000
DTSTAMP:20260420T004709
CREATED:20141119T190517Z
LAST-MODIFIED:20141119T190517Z
UID:1610-1434714600-1434718200@willows.sd61.bc.ca
SUMMARY:Pizza/Sushi Day
DESCRIPTION:
URL:https://willows.sd61.bc.ca/calendar-event/pizzasushi-day-19/
END:VEVENT
BEGIN:VEVENT
DTSTART;TZID=America/Vancouver:20150619T123000
DTEND;TZID=America/Vancouver:20150619T145000
DTSTAMP:20260420T004709
CREATED:20150512T151518Z
LAST-MODIFIED:20150512T151518Z
UID:1775-1434717000-1434725400@willows.sd61.bc.ca
SUMMARY:Grade 5 Talent Show
DESCRIPTION:
URL:https://willows.sd61.bc.ca/calendar-event/grade-5-talent-show/
END:VEVENT
BEGIN:VEVENT
DTSTART;VALUE=DATE:20150621
DTEND;VALUE=DATE:20150622
DTSTAMP:20260420T004709
CREATED:20130908T201639Z
LAST-MODIFIED:20141119T202315Z
UID:1214-1434844800-1434931199@willows.sd61.bc.ca
SUMMARY:Father's Day
DESCRIPTION:
URL:https://willows.sd61.bc.ca/calendar-event/fathers-day-2/
END:VEVENT
BEGIN:VEVENT
DTSTART;TZID=America/Vancouver:20150623T080000
DTEND;TZID=America/Vancouver:20150623T170000
DTSTAMP:20260420T004709
CREATED:20150512T151548Z
LAST-MODIFIED:20150512T151548Z
UID:1776-1435046400-1435078800@willows.sd61.bc.ca
SUMMARY:Grade 5 Farewell Assembly
DESCRIPTION:
URL:https://willows.sd61.bc.ca/calendar-event/grade-5-farewell-assembly/
END:VEVENT
BEGIN:VEVENT
DTSTART;TZID=America/Vancouver:20150624T080000
DTEND;TZID=America/Vancouver:20150624T170000
DTSTAMP:20260420T004709
CREATED:20150422T210139Z
LAST-MODIFIED:20150422T210139Z
UID:1742-1435132800-1435165200@willows.sd61.bc.ca
SUMMARY:Grade 5 Camp Day
DESCRIPTION:
URL:https://willows.sd61.bc.ca/calendar-event/grade-5-camp-day/
END:VEVENT
BEGIN:VEVENT
DTSTART;TZID=America/Vancouver:20150625T084000
DTEND;TZID=America/Vancouver:20150625T145000
DTSTAMP:20260420T004709
CREATED:20141119T191253Z
LAST-MODIFIED:20150422T210244Z
UID:1622-1435221600-1435243800@willows.sd61.bc.ca
SUMMARY:Last Day of School
DESCRIPTION:
URL:https://willows.sd61.bc.ca/calendar-event/last-day-of-school/
END:VEVENT
END:VCALENDAR