BEGIN:VCALENDAR
VERSION:2.0
PRODID:-//Willows Elementary - ECPv6.2.8.1//NONSGML v1.0//EN
CALSCALE:GREGORIAN
METHOD:PUBLISH
X-WR-CALNAME:Willows Elementary
X-ORIGINAL-URL:https://willows.sd61.bc.ca
X-WR-CALDESC:Events for Willows Elementary
REFRESH-INTERVAL;VALUE=DURATION:PT1H
X-Robots-Tag:noindex
X-PUBLISHED-TTL:PT1H
BEGIN:VTIMEZONE
TZID:America/Vancouver
BEGIN:DAYLIGHT
TZOFFSETFROM:-0800
TZOFFSETTO:-0700
TZNAME:PDT
DTSTART:20140309T100000
END:DAYLIGHT
BEGIN:STANDARD
TZOFFSETFROM:-0700
TZOFFSETTO:-0800
TZNAME:PST
DTSTART:20141102T090000
END:STANDARD
BEGIN:DAYLIGHT
TZOFFSETFROM:-0800
TZOFFSETTO:-0700
TZNAME:PDT
DTSTART:20150308T100000
END:DAYLIGHT
BEGIN:STANDARD
TZOFFSETFROM:-0700
TZOFFSETTO:-0800
TZNAME:PST
DTSTART:20151101T090000
END:STANDARD
END:VTIMEZONE
BEGIN:VEVENT
DTSTART;TZID=America/Vancouver:20141222T080000
DTEND;TZID=America/Vancouver:20150104T170000
DTSTAMP:20260420T175240
CREATED:20141121T190057Z
LAST-MODIFIED:20141121T190057Z
UID:1640-1419235200-1420390800@willows.sd61.bc.ca
SUMMARY:Winter Vacation Dec 22 - Jan 2nd
DESCRIPTION:
URL:https://willows.sd61.bc.ca/calendar-event/winter-vacation-dec-22-jan-2nd/
END:VEVENT
BEGIN:VEVENT
DTSTART;TZID=America/Vancouver:20150105T084000
DTEND;TZID=America/Vancouver:20150105T145000
DTSTAMP:20260420T175240
CREATED:20141119T190816Z
LAST-MODIFIED:20141119T190816Z
UID:1615-1420447200-1420469400@willows.sd61.bc.ca
SUMMARY:First Day Back to School After Winter Break
DESCRIPTION:
URL:https://willows.sd61.bc.ca/calendar-event/first-day-back-to-school-after-winter-break/
END:VEVENT
BEGIN:VEVENT
DTSTART;TZID=America/Vancouver:20150112T080000
DTEND;TZID=America/Vancouver:20150116T170000
DTSTAMP:20260420T175240
CREATED:20141119T222012Z
LAST-MODIFIED:20141119T222012Z
UID:1624-1421049600-1421427600@willows.sd61.bc.ca
SUMMARY:French Immersion Kindergarten & Gr. 1 Registration Week Jan 12-16
DESCRIPTION:
URL:https://willows.sd61.bc.ca/calendar-event/french-immersion-kindergarten-gr-1-registration-week-jan-12-16/
END:VEVENT
BEGIN:VEVENT
DTSTART;TZID=America/Vancouver:20150121T190000
DTEND;TZID=America/Vancouver:20150121T200000
DTSTAMP:20260420T175240
CREATED:20141119T222048Z
LAST-MODIFIED:20141119T222048Z
UID:1625-1421866800-1421870400@willows.sd61.bc.ca
SUMMARY:PAC Meeting Tonight - Library
DESCRIPTION:
URL:https://willows.sd61.bc.ca/calendar-event/pac-meeting-tonight-library/
END:VEVENT
BEGIN:VEVENT
DTSTART;TZID=America/Vancouver:20150126T080000
DTEND;TZID=America/Vancouver:20150126T170000
DTSTAMP:20260420T175240
CREATED:20141119T190608Z
LAST-MODIFIED:20141119T190608Z
UID:1611-1422259200-1422291600@willows.sd61.bc.ca
SUMMARY:Pro-D Day - No School
DESCRIPTION:
URL:https://willows.sd61.bc.ca/calendar-event/pro-d-day-no-school-4/
END:VEVENT
BEGIN:VEVENT
DTSTART;TZID=America/Vancouver:20150126T080000
DTEND;TZID=America/Vancouver:20150130T170000
DTSTAMP:20260420T175240
CREATED:20141119T222148Z
LAST-MODIFIED:20141119T222148Z
UID:1626-1422259200-1422637200@willows.sd61.bc.ca
SUMMARY:English Kindergarten & Gr. 1 Registration Week Jan. 26 - 30
DESCRIPTION:
URL:https://willows.sd61.bc.ca/calendar-event/english-kindergarten-gr-1-registration-week-jan-26-30/
END:VEVENT
BEGIN:VEVENT
DTSTART;TZID=America/Vancouver:20150130T100000
DTEND;TZID=America/Vancouver:20150130T113000
DTSTAMP:20260420T175240
CREATED:20141119T222220Z
LAST-MODIFIED:20150121T230326Z
UID:1627-1422612000-1422617400@willows.sd61.bc.ca
SUMMARY:Ready Set Learn
DESCRIPTION:
URL:https://willows.sd61.bc.ca/calendar-event/ready-set-learn-2/
END:VEVENT
BEGIN:VEVENT
DTSTART;TZID=America/Vancouver:20150130T115000
DTEND;TZID=America/Vancouver:20150130T125000
DTSTAMP:20260420T175240
CREATED:20141119T190217Z
LAST-MODIFIED:20141119T190217Z
UID:1605-1422618600-1422622200@willows.sd61.bc.ca
SUMMARY:Pizza/Sushi Day
DESCRIPTION:
URL:https://willows.sd61.bc.ca/calendar-event/pizzasushi-day-14/
END:VEVENT
END:VCALENDAR