BEGIN:VCALENDAR
VERSION:2.0
PRODID:-//Willows Elementary - ECPv6.2.8.1//NONSGML v1.0//EN
CALSCALE:GREGORIAN
METHOD:PUBLISH
X-ORIGINAL-URL:https://willows.sd61.bc.ca
X-WR-CALDESC:Events for Willows Elementary
REFRESH-INTERVAL;VALUE=DURATION:PT1H
X-Robots-Tag:noindex
X-PUBLISHED-TTL:PT1H
BEGIN:VTIMEZONE
TZID:America/Vancouver
BEGIN:DAYLIGHT
TZOFFSETFROM:-0800
TZOFFSETTO:-0700
TZNAME:PDT
DTSTART:20150308T100000
END:DAYLIGHT
BEGIN:STANDARD
TZOFFSETFROM:-0700
TZOFFSETTO:-0800
TZNAME:PST
DTSTART:20151101T090000
END:STANDARD
END:VTIMEZONE
BEGIN:VEVENT
DTSTART;VALUE=DATE:20150921
DTEND;VALUE=DATE:20150922
DTSTAMP:20260419T183058
CREATED:20150917T233047Z
LAST-MODIFIED:20150917T233047Z
UID:1814-1442793600-1442879999@willows.sd61.bc.ca
SUMMARY:Pro D Day  NO SCHOOL
DESCRIPTION:
URL:https://willows.sd61.bc.ca/calendar-event/pro-d-day-no-school/
END:VEVENT
BEGIN:VEVENT
DTSTART;TZID=America/Vancouver:20150923T080000
DTEND;TZID=America/Vancouver:20150923T145000
DTSTAMP:20260419T183058
CREATED:20150917T232901Z
LAST-MODIFIED:20150917T232901Z
UID:1812-1442995200-1443019800@willows.sd61.bc.ca
SUMMARY:Student Picture Day
DESCRIPTION:
URL:https://willows.sd61.bc.ca/calendar-event/student-picture-day/
END:VEVENT
BEGIN:VEVENT
DTSTART;TZID=America/Vancouver:20150923T190000
DTEND;TZID=America/Vancouver:20150923T200000
DTSTAMP:20260419T183058
CREATED:20150918T184421Z
LAST-MODIFIED:20150918T184421Z
UID:1854-1443034800-1443038400@willows.sd61.bc.ca
SUMMARY:PAC meeting in library
DESCRIPTION:
URL:https://willows.sd61.bc.ca/calendar-event/pac-meeting-in-library/
END:VEVENT
BEGIN:VEVENT
DTSTART;TZID=America/Vancouver:20150924T183000
DTEND;TZID=America/Vancouver:20150924T200000
DTSTAMP:20260419T183058
CREATED:20150917T232823Z
LAST-MODIFIED:20150917T232823Z
UID:1811-1443119400-1443124800@willows.sd61.bc.ca
SUMMARY:Meet the Teacher 6:30-7:30\, PAC social 7:30 - 8:00
DESCRIPTION:
URL:https://willows.sd61.bc.ca/calendar-event/meet-the-teacher-630-730-pac-social-730-800/
END:VEVENT
BEGIN:VEVENT
DTSTART;TZID=America/Vancouver:20150925T010000
DTEND;TZID=America/Vancouver:20150925T145000
DTSTAMP:20260419T183058
CREATED:20150917T233016Z
LAST-MODIFIED:20150918T184355Z
UID:1813-1443142800-1443192600@willows.sd61.bc.ca
SUMMARY:Cops For Cancer Run
DESCRIPTION:
URL:https://willows.sd61.bc.ca/calendar-event/terry-fox-run/
END:VEVENT
BEGIN:VEVENT
DTSTART;TZID=America/Vancouver:20151001T093000
DTEND;TZID=America/Vancouver:20151001T103000
DTSTAMP:20260419T183058
CREATED:20150917T233251Z
LAST-MODIFIED:20150929T232311Z
UID:1817-1443691800-1443695400@willows.sd61.bc.ca
SUMMARY:COPS for Cancer visit at 9:30
DESCRIPTION:
URL:https://willows.sd61.bc.ca/calendar-event/cops-for-cancer-visit/
END:VEVENT
END:VCALENDAR